BEGIN:VCALENDAR
VERSION:2.0
PRODID:-//ZETWAL AN SYEL - ECPv6.15.20//NONSGML v1.0//EN
CALSCALE:GREGORIAN
METHOD:PUBLISH
X-WR-CALNAME:ZETWAL AN SYEL
X-ORIGINAL-URL:https://www.zetwalansyel.com
X-WR-CALDESC:Évènements pour ZETWAL AN SYEL
REFRESH-INTERVAL;VALUE=DURATION:PT1H
X-Robots-Tag:noindex
X-PUBLISHED-TTL:PT1H
BEGIN:VTIMEZONE
TZID:America/Martinique
BEGIN:STANDARD
TZOFFSETFROM:-0400
TZOFFSETTO:-0400
TZNAME:AST
DTSTART:20250101T000000
END:STANDARD
END:VTIMEZONE
BEGIN:VEVENT
DTSTART;TZID=America/Martinique:20260508T180000
DTEND;TZID=America/Martinique:20260509T140000
DTSTAMP:20260424T172627
CREATED:20260424T014811Z
LAST-MODIFIED:20260424T015133Z
UID:1961-1778263200-1778335200@www.zetwalansyel.com
SUMMARY:Week-end fête des Mères - Mai 2026
DESCRIPTION:À l’occasion de la Fête des mères\, Zétwal An Syèl t’invite à vivre un week-end pensé comme une bulle de détente\, dans une villa d’exception au cœur du Nord Caraïbes. \n📆 Au programme : aquagym\, atelier de personnalisation avec Alizée\, soirée jeux et bien d’autres activités… \nPour s’inscrire c’est par ici ➤ https://www.helloasso.com/associations/zetwal-an-syel/evenements/week-end-fete-des-meres-mai-2026 \nℹ️ Informations importantes \n• Hébergement en chambre partagée (2 personnes par chambre) \n• Repas et brunch inclus \n• Merci de respecter le lieu ainsi que les personnes présentes \nSi tu as des questions\, contacte-nous : 0696 26 24 88 ou 0696 20 17 33.
URL:https://www.zetwalansyel.com/evenement/week-end-fete-des-meres-mai-2026/
LOCATION:Surprise\, Fort-de-france\, 97200\, Martinique
CATEGORIES:Evenements marquants
ATTACH;FMTTYPE=image/png:https://www.zetwalansyel.com/wp-content/uploads/2026/04/fetedesmeres.png
ORGANIZER;CN="Z%C3%89TWAL AN SY%C3%88L":MAILTO:contact@zetwalansyel.com
END:VEVENT
END:VCALENDAR