BEGIN:VCALENDAR
VERSION:2.0
PRODID:-//ZETWAL AN SYEL - ECPv6.15.20//NONSGML v1.0//EN
CALSCALE:GREGORIAN
METHOD:PUBLISH
X-WR-CALNAME:ZETWAL AN SYEL
X-ORIGINAL-URL:https://www.zetwalansyel.com
X-WR-CALDESC:Évènements pour ZETWAL AN SYEL
REFRESH-INTERVAL;VALUE=DURATION:PT1H
X-Robots-Tag:noindex
X-PUBLISHED-TTL:PT1H
BEGIN:VTIMEZONE
TZID:America/Martinique
BEGIN:STANDARD
TZOFFSETFROM:-0400
TZOFFSETTO:-0400
TZNAME:AST
DTSTART:20240101T000000
END:STANDARD
END:VTIMEZONE
BEGIN:VEVENT
DTSTART;TZID=America/Martinique:20251021T190000
DTEND;TZID=America/Martinique:20251021T210000
DTSTAMP:20260422T085105
CREATED:20251003T022733Z
LAST-MODIFIED:20251003T023355Z
UID:1624-1761073200-1761080400@www.zetwalansyel.com
SUMMARY:Apéro des Papas - Octobre 2025
DESCRIPTION:Souvent discrets\, parfois en retrait\, les papas endeuillés ont pourtant besoin\, eux aussi\, besoin d’un espace pour relâcher la pression\, se sentir compris et s’ils le souhaitent parler de leur expérience où tout autre sujet. Cet apéro est un temps privilégié\, tenu dans un lieu tenu secret jusqu’à l’avant-veille\, où les participants sont invités à se rassembler autour d’un verre. Deux consommations sont offertes par l’association. \nPour s’inscrire c’est par ici ➤ https://my.weezevent.com/apero-des-papas-octobre-2025 \nCe moment d’échange est GRATUIT si vous êtes adhérents à l’association. Pour adhérer c’est juste ici : https://www.helloasso.com/associations/zetwal-an-syel/adhesions/adhesion-zetwal-an-syel-2026 \nPour plus d’informations\, contactez-nous au 0696 20 17 33 ou 0696 26 24 88.\nMerci à l’ARS et la CAF Martinique pour le financement de cette activité.
URL:https://www.zetwalansyel.com/evenement/apero-des-papas-octobre-2025/
LOCATION:Surprise\, Fort-de-france\, 97200\, Martinique
CATEGORIES:L'Apéro des Papas
ATTACH;FMTTYPE=image/jpeg:https://www.zetwalansyel.com/wp-content/uploads/2025/05/apero-des-papas-.jpg
ORGANIZER;CN="Z%C3%89TWAL AN SY%C3%88L":MAILTO:contact@zetwalansyel.com
END:VEVENT
BEGIN:VEVENT
DTSTART;TZID=America/Martinique:20251024T183000
DTEND;TZID=America/Martinique:20251024T200000
DTSTAMP:20260422T085105
CREATED:20251003T023518Z
LAST-MODIFIED:20251003T023518Z
UID:1626-1761330600-1761336000@www.zetwalansyel.com
SUMMARY:Atelier Lakansyel – Octobre 2025
DESCRIPTION:Zétwal An Syèl vous propose l’atelier Lakansyel\, dédié aux mamans\, papas ou parents endeuillés en chemin vers un bébé arc-en-ciel. On appelle bébé arc-en-ciel\, l’enfant qui arrive après un traumatisme ou un deuil périnatal. Cet atelier offre à chacun un espace ressourçant et réconfortant\, pour se préparer et avancer avec douceur dans cette nouvelle aventure de vie. \nPour s’inscrire c’est par ici ➤ https://my.weezevent.com/atelier-lakansyel-octobre-2025 \nTarifs : \n• GRATUIT pour les adhérents\n• 7€ pour les non-adhérents (paiement possible sur place) \nInformations importantes\n• Nous vous invitons à présenter au plus tard 5 minutes avant le début du groupe. Aucun retard ne pourra être accepté afin de ne pas perturber le bon déroulé de séance. \n• Un retard ou une absence ne peut donner lieu à un remboursement. \nPour plus d’informations\, contactez-nous au 0696 20 17 33 ou 0696 26 24 88.\nMerci à l’ARS et la CAF Martinique pour le financement de cette activité.
URL:https://www.zetwalansyel.com/evenement/atelier-lakansyel-octobre-2025/
LOCATION:Local Zétwal An Syèl\, 18 Rue Kann Ribanne\, Fort-de-France\, 97200\, Martinique
CATEGORIES:Atelier Lakansyel
ATTACH;FMTTYPE=image/png:https://www.zetwalansyel.com/wp-content/uploads/2025/06/an-ti-koze-bebe-arc-en-ciel.png
ORGANIZER;CN="Z%C3%89TWAL AN SY%C3%88L":MAILTO:contact@zetwalansyel.com
END:VEVENT
END:VCALENDAR