BEGIN:VCALENDAR
VERSION:2.0
PRODID:-//ZETWAL AN SYEL - ECPv6.15.20//NONSGML v1.0//EN
CALSCALE:GREGORIAN
METHOD:PUBLISH
X-WR-CALNAME:ZETWAL AN SYEL
X-ORIGINAL-URL:https://www.zetwalansyel.com
X-WR-CALDESC:Évènements pour ZETWAL AN SYEL
REFRESH-INTERVAL;VALUE=DURATION:PT1H
X-Robots-Tag:noindex
X-PUBLISHED-TTL:PT1H
BEGIN:VTIMEZONE
TZID:America/Martinique
BEGIN:STANDARD
TZOFFSETFROM:-0400
TZOFFSETTO:-0400
TZNAME:AST
DTSTART:20220101T000000
END:STANDARD
END:VTIMEZONE
BEGIN:VEVENT
DTSTART;TZID=America/Martinique:20231110T180000
DTEND;TZID=America/Martinique:20231110T193000
DTSTAMP:20260423T054340
CREATED:20231018T190727Z
LAST-MODIFIED:20231018T193439Z
UID:1153-1699639200-1699644600@www.zetwalansyel.com
SUMMARY:Doudou an ou palé - 10 novembre 2023
DESCRIPTION:On dit souvent que l’homme vient de Mars et que la femme vient de Vénus… chacun a sa façon de fonctionner\, de réfléchir\, de vivre son deuil.. \nComment faire pour mieux se comprendre\, mieux s’écouter et mieux communiquer durant la traversée du deuil périnatal ? \nZétwal An Syèl propose un atelier ludique et convivial pour les couples ayant vécu la perte d’un tout-petit (fausse couche précoce\, IMG\, accouchement prématuré\, mort in utero\, et mort après la naissance). \nPour réserver votre place\, rendez-vous sur : https://my.weezevent.com/doudou-an-ou-pale-10-novembre-2023\n 
URL:https://www.zetwalansyel.com/evenement/doudou-an-ou-pale-10-novembre-2023/
LOCATION:Local Zétwal An Syèl\, 18 Rue Kann Ribanne\, Fort-de-France\, 97200\, Martinique
ATTACH;FMTTYPE=image/jpeg:https://www.zetwalansyel.com/wp-content/uploads/2023/03/black-and-white-g1cb463df2_1920.jpg
ORGANIZER;CN="Z%C3%89TWAL AN SY%C3%88L":MAILTO:contact@zetwalansyel.com
END:VEVENT
END:VCALENDAR