BEGIN:VCALENDAR
VERSION:2.0
PRODID:-//ZETWAL AN SYEL - ECPv6.15.20//NONSGML v1.0//EN
CALSCALE:GREGORIAN
METHOD:PUBLISH
X-WR-CALNAME:ZETWAL AN SYEL
X-ORIGINAL-URL:https://www.zetwalansyel.com
X-WR-CALDESC:Évènements pour ZETWAL AN SYEL
REFRESH-INTERVAL;VALUE=DURATION:PT1H
X-Robots-Tag:noindex
X-PUBLISHED-TTL:PT1H
BEGIN:VTIMEZONE
TZID:America/Martinique
BEGIN:STANDARD
TZOFFSETFROM:-0400
TZOFFSETTO:-0400
TZNAME:AST
DTSTART:20220101T000000
END:STANDARD
END:VTIMEZONE
BEGIN:VEVENT
DTSTART;TZID=America/Martinique:20230204T080000
DTEND;TZID=America/Martinique:20230204T170000
DTSTAMP:20260421T113253
CREATED:20230110T143911Z
LAST-MODIFIED:20230110T143911Z
UID:918-1675497600-1675530000@www.zetwalansyel.com
SUMMARY:Colloque sur le deuil périnatal
DESCRIPTION:Zétwal an Syèl organise son premier colloque professionnel autour du deuil périnatal \nLe samedi 4 février prochain\, l’Association Zétwal an Syèl organise son premier colloque à destination des personnels de santé autour de la prise en charge des familles touchées par le deuil périnatal. Tables rondes\, ateliers pratiques et retours d’expériences rythmeront la journée au sein de l’Institut du Sport Martiniquais. \nPlusieurs thématiques seront abordées afin de leur permettre d’appréhender le deuil périnatal d’une façon plus bienveillante. Cette journée sera également l’occasion de découvrir et connaître les mécanismes à adopter en tant que soignant également. En collaboration avec l’Agence régionale de Santé de Martinique\, personnels de santés spécialisés\, psychologues et spécialistes juridiques échangeront sur un ensemble de sujets autour du deuil périnatal.  \nLe docteur Marie-Josée Soubieux\, pédopsychiatre et psychanalyste spécialisée dans la thématique du deuil périnatal fera le déplacement depuis la France hexagonale afin de développer le sujet à la fois en plénière mais aussi lors d’entretiens qui auront lieu toute la journée.  \nLe colloque est réservé en priorité au personnel de santé œuvrant dans les services de maternité et gynécologie et est entièrement gratuit.  \nLes inscriptions se font via Weezevent\, https://my.weezevent.com/comprendre-et-accompagner-le-deuil-perinatal  \nLe programme détaillé est également disponible.
URL:https://www.zetwalansyel.com/evenement/colloque-sur-le-deuil-perinatal/
LOCATION:Institut Martiniquais du Sport\, Quartier Mangot Vuclin\, Le Lamentin\, 97232\, Martinique
CATEGORIES:Evenements marquants
ATTACH;FMTTYPE=image/png:https://www.zetwalansyel.com/wp-content/uploads/2023/01/Invit-colloque-1.png
ORGANIZER;CN="Z%C3%89TWAL AN SY%C3%88L":MAILTO:contact@zetwalansyel.com
END:VEVENT
END:VCALENDAR