BEGIN:VCALENDAR
VERSION:2.0
PRODID:-//ZETWAL AN SYEL - ECPv6.15.20//NONSGML v1.0//EN
CALSCALE:GREGORIAN
METHOD:PUBLISH
X-ORIGINAL-URL:https://www.zetwalansyel.com
X-WR-CALDESC:Évènements pour ZETWAL AN SYEL
REFRESH-INTERVAL;VALUE=DURATION:PT1H
X-Robots-Tag:noindex
X-PUBLISHED-TTL:PT1H
BEGIN:VTIMEZONE
TZID:America/Martinique
BEGIN:STANDARD
TZOFFSETFROM:-0400
TZOFFSETTO:-0400
TZNAME:AST
DTSTART:20250101T000000
END:STANDARD
END:VTIMEZONE
BEGIN:VEVENT
DTSTART;TZID=America/Martinique:20260508T180000
DTEND;TZID=America/Martinique:20260509T140000
DTSTAMP:20260425T093443
CREATED:20260424T014811Z
LAST-MODIFIED:20260424T015133Z
UID:1961-1778263200-1778335200@www.zetwalansyel.com
SUMMARY:Week-end fête des Mères - Mai 2026
DESCRIPTION:À l’occasion de la Fête des mères\, Zétwal An Syèl t’invite à vivre un week-end pensé comme une bulle de détente\, dans une villa d’exception au cœur du Nord Caraïbes. \n📆 Au programme : aquagym\, atelier de personnalisation avec Alizée\, soirée jeux et bien d’autres activités… \nPour s’inscrire c’est par ici ➤ https://www.helloasso.com/associations/zetwal-an-syel/evenements/week-end-fete-des-meres-mai-2026 \nℹ️ Informations importantes \n• Hébergement en chambre partagée (2 personnes par chambre) \n• Repas et brunch inclus \n• Merci de respecter le lieu ainsi que les personnes présentes \nSi tu as des questions\, contacte-nous : 0696 26 24 88 ou 0696 20 17 33.
URL:https://www.zetwalansyel.com/evenement/week-end-fete-des-meres-mai-2026/
LOCATION:Surprise\, Fort-de-france\, 97200\, Martinique
CATEGORIES:Evenements marquants
ATTACH;FMTTYPE=image/png:https://www.zetwalansyel.com/wp-content/uploads/2026/04/fetedesmeres.png
ORGANIZER;CN="Z%C3%89TWAL AN SY%C3%88L":MAILTO:contact@zetwalansyel.com
END:VEVENT
BEGIN:VEVENT
DTSTART;TZID=America/Martinique:20260513T183000
DTEND;TZID=America/Martinique:20260513T203000
DTSTAMP:20260425T093443
CREATED:20260423T234115Z
LAST-MODIFIED:20260423T234155Z
UID:1951-1778697000-1778704200@www.zetwalansyel.com
SUMMARY:Assemblée générale annuelle - Mai 2026
DESCRIPTION:Chers adhérents\, \nNous avons le plaisir de vous inviter à l’Assemblée Générale Annuelle de l’association Zétwal An Syèl\, qui se tiendra le jeudi 13 mai 2026 à partir de 18h30 (veille de jour férié)\, dans notre local situé au 18 rue Kann Ribanne à Dillon. \nCe temps de rencontre est l’occasion de revenir ensemble sur les actions menées au cours de l’année écoulée\, de partager les perspectives à venir\, et de continuer à faire vivre l’association\, avec vous. \nPour vous inscrire\, c’est par ici : https://www.helloasso.com/associations/zetwal-an-syel/evenements/assemblee-generale\nParce que la vie de Zétwal An Syèl se construit collectivement\, votre présence compte? \nL’assemblée générale est ouverte à tous.Toutefois\, seuls les adhérent(e)s à jour au 27 avril 2026 pourront participer aux votes. \nPour adhérer\, c’est juste ici :https://www.helloasso.com/associations/zetwal-an-syel/adhesions/adhesion-zetwal-an-syel-2026 \nPour toute question\, vous pouvez nous contacter au 0696 20 17 33 ou au 0696 26 24 88.
URL:https://www.zetwalansyel.com/evenement/assemblee-generale-annuelle-mai-2026/
LOCATION:Local Zétwal An Syèl\, 18 Rue Kann Ribanne\, Fort-de-France\, 97200\, Martinique
CATEGORIES:Assemblée générale (ordinaire ou extraordinaire),Evenements marquants
ATTACH;FMTTYPE=image/png:https://www.zetwalansyel.com/wp-content/uploads/2026/04/ag.png
ORGANIZER;CN="Z%C3%89TWAL AN SY%C3%88L":MAILTO:contact@zetwalansyel.com
END:VEVENT
BEGIN:VEVENT
DTSTART;TZID=America/Martinique:20260529T180000
DTEND;TZID=America/Martinique:20260529T193000
DTSTAMP:20260425T093443
CREATED:20260423T234624Z
LAST-MODIFIED:20260423T234624Z
UID:1959-1780077600-1780083000@www.zetwalansyel.com
SUMMARY:Groupe de parole des mamans - Mai 2026
DESCRIPTION:Zétwal An Syèl t’invite à rejoindre un groupe de parole dédié aux mamans\, animé par Ingrid Vestris\, psychologue spécialisée en psychiatrie périnatale.Un moment d’échange\, d’écoute et de soutien en petit groupe\, pour t’accompagner avec douceur dans ton cheminement de deuil périnatal. \nPourquoi participer ? \n✔️ Trouver du réconfort auprès d’autres mamans ayant vécu une expérience similaire \n✔️ Libérer ta parole dans un cadre sécurisant et respectueux \n✔️ Être accompagnée par une professionnelle spécialisée en périnatalité \nPour s’inscrire c’est par ici ➤ https://www.helloasso.com/associations/zetwal-an-syel/evenements/groupe-de-parole-mamans-mai-2026 \nTarifs :\n• GRATUIT pour les adhérentes\n• 7€ pour les non-adhérentes (paiement possible sur place) \nInformations importantes\n• Tu peux venir seule ou accompagnée\, selon ton ressenti. \n• Nous vous invitons à présenter au plus tard 5 minutes avant le début du groupe. Aucun retard ne pourra être accepté afin de ne pas perturber le bon déroulé de séance. \n• Un retard ou une absence ne peut donner lieu à un remboursement. \nPour plus d’informations\, contactez-nous au 0696 20 17 33 ou 0696 26 24 88.\nMerci à l’ARS et la CAF Martinique pour le financement de cette activité.
URL:https://www.zetwalansyel.com/evenement/groupe-de-parole-des-mamans-mai-2026/
LOCATION:Local Zétwal An Syèl\, 18 Rue Kann Ribanne\, Fort-de-France\, 97200\, Martinique
CATEGORIES:Groupe de paroles des mamans
ATTACH;FMTTYPE=image/png:https://www.zetwalansyel.com/wp-content/uploads/2025/02/groupe-de-parole-des-mamans.png
ORGANIZER;CN="Z%C3%89TWAL AN SY%C3%88L":MAILTO:contact@zetwalansyel.com
END:VEVENT
END:VCALENDAR